BEGIN:VCALENDAR
VERSION:2.0
PRODID:-//Reynolds Music Program - ECPv6.15.14//NONSGML v1.0//EN
CALSCALE:GREGORIAN
METHOD:PUBLISH
X-WR-CALNAME:Reynolds Music Program
X-ORIGINAL-URL:https://reynoldsmusic.ca
X-WR-CALDESC:Events for Reynolds Music Program
REFRESH-INTERVAL;VALUE=DURATION:PT1H
X-Robots-Tag:noindex
X-PUBLISHED-TTL:PT1H
BEGIN:VTIMEZONE
TZID:UTC
BEGIN:STANDARD
TZOFFSETFROM:+0000
TZOFFSETTO:+0000
TZNAME:UTC
DTSTART:20210101T000000
END:STANDARD
END:VTIMEZONE
BEGIN:VEVENT
DTSTART;TZID=UTC:20220915T170000
DTEND;TZID=UTC:20220915T170000
DTSTAMP:20260421T153902
CREATED:20220910T234846Z
LAST-MODIFIED:20220913T054016Z
UID:284-1663261200-1663261200@reynoldsmusic.ca
SUMMARY:Alumni Band island starts
DESCRIPTION:The Alumni Band started in 2010 and is open to former band students of all ages and abilities. Retired band director\, Dale Wilson generally organizes two sessions a year. The first is in the spring with the goal to perform on Mother’s Day in Playfair Park\, and the second is in the fall for a drop-in session. Rehearsals are a lot of fun so dust off your instrument and play with us! \n\n\n\n\nAll skill levels are welcome – would love to see new and returning alumni band members! Please spread the word to other alumni who may be interested. \n\n\n\nMembers of the Reynolds Band Alumni have been participating in the annual Mother’s Day concert since 2010 and are saw the biggest turnout to date to celebrate 50 years of Reynolds! \n\n\n\nIn addition\, all Reynolds Band alumni are invited to participate in the Victoria Day parade on the weekend following Mother’s Day. When registering\, please indicate your intention to play or to march only. \n\n\n\nAlumni can email us with questions and like our Facebook page to stay in touch. Please share this with Your alumni friends and hope to see you in 2018! \n\n\n\n\nStay Connected:\n\n\n\nTo keep up to date on Alumni Band news\, check out the following: \n\n\n\nTo sign up for our email distribution list\, click here \n\n\n\nLike us on Facebook; follow us on Twitter! \n\n\n\nEmail us at: reynoldsalumniband@gmail.com
URL:https://reynoldsmusic.ca/event/alumni-band-island-starts/
ATTACH;FMTTYPE=image/png:https://reynoldsmusic.ca/wp-content/uploads/2022/09/image-1.png
END:VEVENT
END:VCALENDAR