BEGIN:VCALENDAR
VERSION:2.0
PRODID:-//Reynolds Music Program - ECPv6.15.14//NONSGML v1.0//EN
CALSCALE:GREGORIAN
METHOD:PUBLISH
X-WR-CALNAME:Reynolds Music Program
X-ORIGINAL-URL:https://reynoldsmusic.ca
X-WR-CALDESC:Events for Reynolds Music Program
REFRESH-INTERVAL;VALUE=DURATION:PT1H
X-Robots-Tag:noindex
X-PUBLISHED-TTL:PT1H
BEGIN:VTIMEZONE
TZID:UTC
BEGIN:STANDARD
TZOFFSETFROM:+0000
TZOFFSETTO:+0000
TZNAME:UTC
DTSTART:20210101T000000
END:STANDARD
END:VTIMEZONE
BEGIN:VEVENT
DTSTART;TZID=UTC:20221214T190000
DTEND;TZID=UTC:20221214T190000
DTSTAMP:20260423T083441
CREATED:20221002T234942Z
LAST-MODIFIED:20221003T010721Z
UID:903-1671044400-1671044400@reynoldsmusic.ca
SUMMARY:Winter Concert: jazz bands and vocal jazz
DESCRIPTION:Details about the event will be included here as we get closer to the date.
URL:https://reynoldsmusic.ca/event/winter-concert-jazz-bands-and-vocal-jazz/
ATTACH;FMTTYPE=image/jpeg:https://reynoldsmusic.ca/wp-content/uploads/2022/10/piano-with-beautiful-christmas-decor-closeup-1.jpg
END:VEVENT
END:VCALENDAR