BEGIN:VCALENDAR
VERSION:2.0
PRODID:-//Reynolds Music Program - ECPv6.15.14//NONSGML v1.0//EN
CALSCALE:GREGORIAN
METHOD:PUBLISH
X-ORIGINAL-URL:https://reynoldsmusic.ca
X-WR-CALDESC:Events for Reynolds Music Program
REFRESH-INTERVAL;VALUE=DURATION:PT1H
X-Robots-Tag:noindex
X-PUBLISHED-TTL:PT1H
BEGIN:VTIMEZONE
TZID:UTC
BEGIN:STANDARD
TZOFFSETFROM:+0000
TZOFFSETTO:+0000
TZNAME:UTC
DTSTART:20220101T000000
END:STANDARD
END:VTIMEZONE
BEGIN:VEVENT
DTSTART;TZID=UTC:20230211T090000
DTEND;TZID=UTC:20230211T150000
DTSTAMP:20260423T033718
CREATED:20230106T005107Z
LAST-MODIFIED:20230106T011023Z
UID:1114-1676106000-1676127600@reynoldsmusic.ca
SUMMARY:Choral Collaboration
DESCRIPTION:Every year choirs from local schools come together to collaborate and perform. \n\n\n\nAs we get closer to the date\, we’ll place more information here about it.
URL:https://reynoldsmusic.ca/event/choral-collaboration/
ATTACH;FMTTYPE=image/jpeg:https://reynoldsmusic.ca/wp-content/uploads/2023/01/chorus-featured.jpg
END:VEVENT
END:VCALENDAR