BEGIN:VCALENDAR
VERSION:2.0
PRODID:-//Reynolds Music Program - ECPv6.15.14//NONSGML v1.0//EN
CALSCALE:GREGORIAN
METHOD:PUBLISH
X-ORIGINAL-URL:https://reynoldsmusic.ca
X-WR-CALDESC:Events for Reynolds Music Program
REFRESH-INTERVAL;VALUE=DURATION:PT1H
X-Robots-Tag:noindex
X-PUBLISHED-TTL:PT1H
BEGIN:VTIMEZONE
TZID:UTC
BEGIN:STANDARD
TZOFFSETFROM:+0000
TZOFFSETTO:+0000
TZNAME:UTC
DTSTART:20220101T000000
END:STANDARD
END:VTIMEZONE
BEGIN:VEVENT
DTSTART;TZID=UTC:20230413T090000
DTEND;TZID=UTC:20230415T150000
DTSTAMP:20260423T002410
CREATED:20230106T011833Z
LAST-MODIFIED:20230106T013814Z
UID:1147-1681376400-1681570800@reynoldsmusic.ca
SUMMARY:Vocal Jazz: Townsite Jazz Festival in Powell River
DESCRIPTION:Vocal Jazz Townsite Jazz Festivalin Powell River\n\n\n\nJoin us April 13–15 in Powell River’s Historic Townsite district for our fifth-anniversary festival! \n\n\n\n\n\n\n\n\nCheck out their website\n\n\n\n\n\n\n\n\nHighlights include:\n\n\n\ndaytime and afternoon performances Jazz & CharcuterieAn alumni jazz choir\n\n\n\nAs we get closer to the date\, we’ll place more information here about it.
URL:https://reynoldsmusic.ca/event/vocal-jazz-townsite-jazz-festival-in-powell-river/
ATTACH;FMTTYPE=image/png:https://reynoldsmusic.ca/wp-content/uploads/2023/01/townsite.png
END:VEVENT
END:VCALENDAR