BEGIN:VCALENDAR
VERSION:2.0
PRODID:-//Reynolds Music Program - ECPv6.15.14//NONSGML v1.0//EN
CALSCALE:GREGORIAN
METHOD:PUBLISH
X-WR-CALNAME:Reynolds Music Program
X-ORIGINAL-URL:https://reynoldsmusic.ca
X-WR-CALDESC:Events for Reynolds Music Program
REFRESH-INTERVAL;VALUE=DURATION:PT1H
X-Robots-Tag:noindex
X-PUBLISHED-TTL:PT1H
BEGIN:VTIMEZONE
TZID:UTC
BEGIN:STANDARD
TZOFFSETFROM:+0000
TZOFFSETTO:+0000
TZNAME:UTC
DTSTART:20220101T000000
END:STANDARD
END:VTIMEZONE
BEGIN:VEVENT
DTSTART;TZID=UTC:20230909T090000
DTEND;TZID=UTC:20230909T150000
DTSTAMP:20260422T102722
CREATED:20231028T013441Z
LAST-MODIFIED:20231028T013441Z
UID:1386-1694250000-1694271600@reynoldsmusic.ca
SUMMARY:RMPA Bottle Drive
DESCRIPTION:Bottle drive!  Thanks to all who participated and donated!This season all proceeds go to the accounts of students who volunteer. Parent volunteers can assign their proceeds to the student of their choice. Because… Disney!
URL:https://reynoldsmusic.ca/event/rmpa-bottle-drive-3/
ATTACH;FMTTYPE=image/jpeg:https://reynoldsmusic.ca/wp-content/uploads/2022/06/plastic-bottles-115082_1280.jpg
END:VEVENT
BEGIN:VEVENT
DTSTART;TZID=UTC:20230913T170000
DTEND;TZID=UTC:20230913T183000
DTSTAMP:20260422T102722
CREATED:20230627T234839Z
LAST-MODIFIED:20230627T234928Z
UID:281-1694624400-1694629800@reynoldsmusic.ca
SUMMARY:Music Program BBQ & RMPA AGM
DESCRIPTION:All music students and families are welcome to attend! \n\n\n\n5pm \n\n\n\n(more details will be added closer tothe date)
URL:https://reynoldsmusic.ca/event/bbq-agm/
ATTACH;FMTTYPE=image/jpeg:https://reynoldsmusic.ca/wp-content/uploads/2023/05/closeup-cooking-hamburger-patties-charcoals-grill.jpg
END:VEVENT
END:VCALENDAR