BEGIN:VCALENDAR
VERSION:2.0
PRODID:-//Reynolds Music Program - ECPv6.15.14//NONSGML v1.0//EN
CALSCALE:GREGORIAN
METHOD:PUBLISH
X-ORIGINAL-URL:https://reynoldsmusic.ca
X-WR-CALDESC:Events for Reynolds Music Program
REFRESH-INTERVAL;VALUE=DURATION:PT1H
X-Robots-Tag:noindex
X-PUBLISHED-TTL:PT1H
BEGIN:VTIMEZONE
TZID:UTC
BEGIN:STANDARD
TZOFFSETFROM:+0000
TZOFFSETTO:+0000
TZNAME:UTC
DTSTART:20220101T000000
END:STANDARD
END:VTIMEZONE
BEGIN:VEVENT
DTSTART;TZID=UTC:20231003T190000
DTEND;TZID=UTC:20231005T190000
DTSTAMP:20260422T085214
CREATED:20220623T061115Z
LAST-MODIFIED:20230922T201644Z
UID:101-1696359600-1696532400@reynoldsmusic.ca
SUMMARY:Uniform Distribution
DESCRIPTION:Hello Reynolds Music families\, \n\n\n\nVolunteer opportunities for “Uniform distribution Reynolds Music 2023” will be open  soon after the school year begins. \n\n\n\n \n\n\n\n\nCheck back here for the sign up sheet!\n\n\n\nCheck back here to find out when your grade is scheduled to get their uniforms
URL:https://reynoldsmusic.ca/event/uniform-distribution/
ATTACH;FMTTYPE=image/jpeg:https://reynoldsmusic.ca/wp-content/uploads/2022/06/UNIFORMS-1-e1589155392803.jpg
END:VEVENT
BEGIN:VEVENT
DTSTART;TZID=UTC:20231012T183000
DTEND;TZID=UTC:20231012T183000
DTSTAMP:20260422T085214
CREATED:20230627T235336Z
LAST-MODIFIED:20230627T235455Z
UID:1285-1697135400-1697135400@reynoldsmusic.ca
SUMMARY:RMPA Meeting
DESCRIPTION:6:30pm \n\n\n\nIn the Band Room. \n\n\n\nIf there are more details to post\, we’ll add those closer to the date.
URL:https://reynoldsmusic.ca/event/rmpa-meeting/
ATTACH;FMTTYPE=image/jpeg:https://reynoldsmusic.ca/wp-content/uploads/2023/06/group-business-executives-meeting.jpg
END:VEVENT
BEGIN:VEVENT
DTSTART;TZID=UTC:20231014T090000
DTEND;TZID=UTC:20231014T150000
DTSTAMP:20260422T085214
CREATED:20231028T013548Z
LAST-MODIFIED:20231028T013548Z
UID:1388-1697274000-1697295600@reynoldsmusic.ca
SUMMARY:RMPA Bottle Drive
DESCRIPTION:Bottle drive!  Thanks to all who participated and donated!This season all proceeds go to the accounts of students who volunteer. Parent volunteers can assign their proceeds to the student of their choice. Because… Disney!
URL:https://reynoldsmusic.ca/event/rmpa-bottle-drive-4/
ATTACH;FMTTYPE=image/jpeg:https://reynoldsmusic.ca/wp-content/uploads/2022/06/plastic-bottles-115082_1280.jpg
END:VEVENT
END:VCALENDAR