BEGIN:VCALENDAR
VERSION:2.0
PRODID:-//Reynolds Music Program - ECPv6.15.14//NONSGML v1.0//EN
CALSCALE:GREGORIAN
METHOD:PUBLISH
X-WR-CALNAME:Reynolds Music Program
X-ORIGINAL-URL:https://reynoldsmusic.ca
X-WR-CALDESC:Events for Reynolds Music Program
REFRESH-INTERVAL;VALUE=DURATION:PT1H
X-Robots-Tag:noindex
X-PUBLISHED-TTL:PT1H
BEGIN:VTIMEZONE
TZID:UTC
BEGIN:STANDARD
TZOFFSETFROM:+0000
TZOFFSETTO:+0000
TZNAME:UTC
DTSTART:20230101T000000
END:STANDARD
END:VTIMEZONE
BEGIN:VEVENT
DTSTART;TZID=UTC:20240301T190000
DTEND;TZID=UTC:20240302T190000
DTSTAMP:20260421T225724
CREATED:20240217T005435Z
LAST-MODIFIED:20240217T200908Z
UID:944-1709319600-1709406000@reynoldsmusic.ca
SUMMARY:Musical Theatre Show Week 1 
DESCRIPTION:Sold Out!!    \n\n\n\nMarch 1 & 2\, 7-9 pm\n\n\n\nDoors open at 6:30 pm \n\n\n\nVolunteer and help support the show! \n\n\n\nIt takes a village: the show’s cast and crew need help from parents during the show’s run. Sign up sheets will be available soon.
URL:https://reynoldsmusic.ca/event/musical-theatre-show-week-1/
ATTACH;FMTTYPE=image/jpeg:https://reynoldsmusic.ca/wp-content/uploads/2024/02/Mean-Girls_HSV_HORZ_PNK-BG.jpg
END:VEVENT
BEGIN:VEVENT
DTSTART;TZID=UTC:20240306T190000
DTEND;TZID=UTC:20240309T190000
DTSTAMP:20260421T225724
CREATED:20230628T003511Z
LAST-MODIFIED:20240217T200835Z
UID:1326-1709751600-1710010800@reynoldsmusic.ca
SUMMARY:Musical Theatre Show Week 2
DESCRIPTION:Sold Out!! \n\n\n\nMarch 6 -9\, 7-9 pm\n\n\n\nDoors open at 6:30 pm \n\n\n\nVolunteer and help support the show! \n\n\n\nIt takes a village: the show’s cast and crew need help from parents during the show’s run. Sign up sheets will be available soon.
URL:https://reynoldsmusic.ca/event/musical-theatre-show-week-2/
ATTACH;FMTTYPE=image/jpeg:https://reynoldsmusic.ca/wp-content/uploads/2024/02/Mean-Girls_HSV_HORZ_PNK-BG.jpg
END:VEVENT
END:VCALENDAR