BEGIN:VCALENDAR
VERSION:2.0
PRODID:-//Reynolds Music Program - ECPv6.15.14//NONSGML v1.0//EN
CALSCALE:GREGORIAN
METHOD:PUBLISH
X-ORIGINAL-URL:https://reynoldsmusic.ca
X-WR-CALDESC:Events for Reynolds Music Program
REFRESH-INTERVAL;VALUE=DURATION:PT1H
X-Robots-Tag:noindex
X-PUBLISHED-TTL:PT1H
BEGIN:VTIMEZONE
TZID:UTC
BEGIN:STANDARD
TZOFFSETFROM:+0000
TZOFFSETTO:+0000
TZNAME:UTC
DTSTART:20230101T000000
END:STANDARD
END:VTIMEZONE
BEGIN:VEVENT
DTSTART;TZID=UTC:20240914T090000
DTEND;TZID=UTC:20240914T150000
DTSTAMP:20260421T122353
CREATED:20240912T223228Z
LAST-MODIFIED:20240912T223229Z
UID:1445-1726304400-1726326000@reynoldsmusic.ca
SUMMARY:Music Program Bottle Drive
DESCRIPTION:9am – 3pm in the Reynolds parking lot.
URL:https://reynoldsmusic.ca/event/music-program-bottle-drive/
END:VEVENT
BEGIN:VEVENT
DTSTART;TZID=UTC:20240924T173000
DTEND;TZID=UTC:20240924T193000
DTSTAMP:20260421T122353
CREATED:20240912T223826Z
LAST-MODIFIED:20240912T223826Z
UID:1455-1727199000-1727206200@reynoldsmusic.ca
SUMMARY:Band Uniform Distribution Night - Grade 9
DESCRIPTION:5:30pm – 7:30pm in the band room\, for grade 9s.
URL:https://reynoldsmusic.ca/event/band-uniform-distribution-night-grade-9/
END:VEVENT
BEGIN:VEVENT
DTSTART;TZID=UTC:20240925T173000
DTEND;TZID=UTC:20240925T193000
DTSTAMP:20260421T122353
CREATED:20240912T223917Z
LAST-MODIFIED:20240912T223918Z
UID:1458-1727285400-1727292600@reynoldsmusic.ca
SUMMARY:Band Uniform Distribution Night - Grade 10
DESCRIPTION:5:30pm – 7:30pm in the band room\, for grade 10s.
URL:https://reynoldsmusic.ca/event/band-uniform-distribution-night-grade-10/
END:VEVENT
BEGIN:VEVENT
DTSTART;TZID=UTC:20240926T173000
DTEND;TZID=UTC:20240926T193000
DTSTAMP:20260421T122353
CREATED:20240912T223959Z
LAST-MODIFIED:20240912T224000Z
UID:1460-1727371800-1727379000@reynoldsmusic.ca
SUMMARY:Band Uniform Distribution Night - Grade 11/12
DESCRIPTION:5:30pm – 7:30pm in the band room\, for grade 11s and 12s.
URL:https://reynoldsmusic.ca/event/band-uniform-distribution-night-grade-11-12/
END:VEVENT
END:VCALENDAR