BEGIN:VCALENDAR
VERSION:2.0
PRODID:-//Reynolds Music Program - ECPv6.15.14//NONSGML v1.0//EN
CALSCALE:GREGORIAN
METHOD:PUBLISH
X-ORIGINAL-URL:https://reynoldsmusic.ca
X-WR-CALDESC:Events for Reynolds Music Program
REFRESH-INTERVAL;VALUE=DURATION:PT1H
X-Robots-Tag:noindex
X-PUBLISHED-TTL:PT1H
BEGIN:VTIMEZONE
TZID:UTC
BEGIN:STANDARD
TZOFFSETFROM:+0000
TZOFFSETTO:+0000
TZNAME:UTC
DTSTART:20230101T000000
END:STANDARD
END:VTIMEZONE
BEGIN:VEVENT
DTSTART;TZID=UTC:20241102T160000
DTEND;TZID=UTC:20241102T200000
DTSTAMP:20260421T083314
CREATED:20241009T161112Z
LAST-MODIFIED:20241009T161112Z
UID:1591-1730563200-1730577600@reynoldsmusic.ca
SUMMARY:Drumline UVic Vikes Performance
DESCRIPTION:4pm call time\, 5pm & 7pm performances – CARSA Building.
URL:https://reynoldsmusic.ca/event/drumline-uvic-vikes-performance/
END:VEVENT
BEGIN:VEVENT
DTSTART;TZID=UTC:20241103T130000
DTEND;TZID=UTC:20241103T150000
DTSTAMP:20260421T083314
CREATED:20240918T233744Z
LAST-MODIFIED:20240918T233744Z
UID:1554-1730638800-1730646000@reynoldsmusic.ca
SUMMARY:UVic Choral Festival
DESCRIPTION:1pm – 3pm at the University of Victoria.
URL:https://reynoldsmusic.ca/event/uvic-choral-festival/
END:VEVENT
BEGIN:VEVENT
DTSTART;TZID=UTC:20241106T190000
DTEND;TZID=UTC:20241106T210000
DTSTAMP:20260421T083314
CREATED:20240912T224553Z
LAST-MODIFIED:20240912T224554Z
UID:1466-1730919600-1730926800@reynoldsmusic.ca
SUMMARY:Blow Out the Dust Band Concert
DESCRIPTION:7pm – 9pm in the Reynolds gym\, admission by donation.
URL:https://reynoldsmusic.ca/event/blow-out-the-dust-band-concert/
END:VEVENT
BEGIN:VEVENT
DTSTART;TZID=UTC:20241108T080000
DTEND;TZID=UTC:20241108T100000
DTSTAMP:20260421T083314
CREATED:20240918T233601Z
LAST-MODIFIED:20241009T161327Z
UID:1551-1731052800-1731060000@reynoldsmusic.ca
SUMMARY:Remembrance Day Assembly
DESCRIPTION:8am call time\, 9am start – Blue Band & Mass Choir\, in the Gymnasium.
URL:https://reynoldsmusic.ca/event/remembrance-day-choir-performance/
END:VEVENT
BEGIN:VEVENT
DTSTART;TZID=UTC:20241111T100000
DTEND;TZID=UTC:20241111T120000
DTSTAMP:20260421T083314
CREATED:20241009T161758Z
LAST-MODIFIED:20241009T161758Z
UID:1595-1731319200-1731326400@reynoldsmusic.ca
SUMMARY:Saanich Remembrance Day Service
DESCRIPTION:10am call time\, 10:30am start – Blue Band\, at the Saanich Municipal Hall
URL:https://reynoldsmusic.ca/event/saanich-remembrance-day-service/
END:VEVENT
BEGIN:VEVENT
DTSTART;TZID=UTC:20241116T090000
DTEND;TZID=UTC:20241116T150000
DTSTAMP:20260421T083314
CREATED:20240912T224739Z
LAST-MODIFIED:20240912T224740Z
UID:1468-1731747600-1731769200@reynoldsmusic.ca
SUMMARY:Music Program Bottle Drive
DESCRIPTION:9am – 3pm in the Reynolds parking lot.
URL:https://reynoldsmusic.ca/event/music-program-bottle-drive-3/
END:VEVENT
BEGIN:VEVENT
DTSTART;TZID=UTC:20241128T183000
DTEND;TZID=UTC:20241128T193000
DTSTAMP:20260421T083314
CREATED:20240912T224836Z
LAST-MODIFIED:20240912T224837Z
UID:1470-1732818600-1732822200@reynoldsmusic.ca
SUMMARY:RMPA Meeting
DESCRIPTION:6:30pm in the Band room. All welcome!
URL:https://reynoldsmusic.ca/event/rmpa-meeting-10/
END:VEVENT
BEGIN:VEVENT
DTSTART;TZID=UTC:20241129T170000
DTEND;TZID=UTC:20241129T190000
DTSTAMP:20260421T083314
CREATED:20241009T162013Z
LAST-MODIFIED:20241009T162013Z
UID:1597-1732899600-1732906800@reynoldsmusic.ca
SUMMARY:Christmas Lights Across Canada
DESCRIPTION:5pm call time\, 6pm start – Carol Band\, at the BC Legislature Building
URL:https://reynoldsmusic.ca/event/christmas-lights-across-canada/
END:VEVENT
END:VCALENDAR